BEGIN:VCALENDAR
VERSION:2.0
PRODID:-//Freiwillige Feuerwehr Senning - ECPv6.15.20//NONSGML v1.0//EN
CALSCALE:GREGORIAN
METHOD:PUBLISH
X-WR-CALNAME:Freiwillige Feuerwehr Senning
X-ORIGINAL-URL:https://www.ffsenning.at
X-WR-CALDESC:Veranstaltungen für Freiwillige Feuerwehr Senning
REFRESH-INTERVAL;VALUE=DURATION:PT1H
X-Robots-Tag:noindex
X-PUBLISHED-TTL:PT1H
BEGIN:VTIMEZONE
TZID:Europe/Berlin
BEGIN:DAYLIGHT
TZOFFSETFROM:+0100
TZOFFSETTO:+0200
TZNAME:CEST
DTSTART:20250330T010000
END:DAYLIGHT
BEGIN:STANDARD
TZOFFSETFROM:+0200
TZOFFSETTO:+0100
TZNAME:CET
DTSTART:20251026T010000
END:STANDARD
BEGIN:DAYLIGHT
TZOFFSETFROM:+0100
TZOFFSETTO:+0200
TZNAME:CEST
DTSTART:20260329T010000
END:DAYLIGHT
BEGIN:STANDARD
TZOFFSETFROM:+0200
TZOFFSETTO:+0100
TZNAME:CET
DTSTART:20261025T010000
END:STANDARD
BEGIN:DAYLIGHT
TZOFFSETFROM:+0100
TZOFFSETTO:+0200
TZNAME:CEST
DTSTART:20270328T010000
END:DAYLIGHT
BEGIN:STANDARD
TZOFFSETFROM:+0200
TZOFFSETTO:+0100
TZNAME:CET
DTSTART:20271031T010000
END:STANDARD
END:VTIMEZONE
BEGIN:VEVENT
DTSTART;TZID=Europe/Berlin:20260503T093000
DTEND;TZID=Europe/Berlin:20260503T150000
DTSTAMP:20260424T202747
CREATED:20230321T090323Z
LAST-MODIFIED:20260109T083901Z
UID:2443-1777800600-1777820400@www.ffsenning.at
SUMMARY:Floriani Feier
DESCRIPTION:09.30 Uhr: Hl. Messe im Feuerwehrhaus\nAb 11.00 Uhr: gemütlicher Vormittag mit Mittagstisch
URL:https://www.ffsenning.at/termin/floriani/
LOCATION:FF Haus Senning\, Mühlestraße 11\, Senning\, Niederösterreich\, 2011\, Austria
END:VEVENT
BEGIN:VEVENT
DTSTART;TZID=Europe/Berlin:20260604T110000
DTEND;TZID=Europe/Berlin:20260604T233000
DTSTAMP:20260424T202747
CREATED:20260101T065846Z
LAST-MODIFIED:20260402T120336Z
UID:1373-1780570800-1780615800@www.ffsenning.at
SUMMARY:Feuerwehr Fest in Senning
DESCRIPTION:11:00 Uhr – Klassischer Heurigenbetrieb bis in die Abendstunden. \nFreut euch auf traditionelle Schmankerl: \n\nSchnitzel & Kotelett\nBerner Würstel & Bratwurst\nPutenstreifen auf frischem Blattsalat\nSpargelstrudel mit Petersilkartoffeln & Kräutersauce\nFleisch / Käsebrot
URL:https://www.ffsenning.at/termin/2026-ff-fest-do/
LOCATION:FF Haus Senning\, Mühlestraße 11\, Senning\, Niederösterreich\, 2011\, Austria
END:VEVENT
BEGIN:VEVENT
DTSTART;TZID=Europe/Berlin:20260606T170000
DTEND;TZID=Europe/Berlin:20260606T233000
DTSTAMP:20260424T202747
CREATED:20260101T155716Z
LAST-MODIFIED:20260402T120023Z
UID:1382-1780765200-1780788600@www.ffsenning.at
SUMMARY:Feuerwehr Fest in Senning
DESCRIPTION:17:00 Uhr – GRILL & CHILL \nGenießt frisch Gegrilltes vom Rost: \n\nSaftige Spare Ribs\nBurger direkt vom Grill\nVegetarische Burger\n\nDazu gibt’s erfrischende Cocktails! \n21:00 Uhr – Tombola
URL:https://www.ffsenning.at/termin/2026-ff-fest-sa/
LOCATION:FF Haus Senning\, Mühlestraße 11\, Senning\, Niederösterreich\, 2011\, Austria
END:VEVENT
END:VCALENDAR